BEGIN:VCALENDAR
VERSION:2.0
PRODID:-//eventon.com NONSGML v1.0//EN
CALSCALE:GREGORIAN
METHOD:PUBLISH
BEGIN:VEVENT
UID:69ec0a30cc805
DTSTAMP:20260425T002624Z
DTSTART:20240705T090000Z
DTEND:20240706T215900Z
LOCATION:
SUMMARY:Fiesta de la Oficialidá
DESCRIPTION:Fiesta de la Oficialidá\nhttps://el21asturias.es/events/fiesta
 -de-la-oficialida/
URL:https://el21asturias.es/events/fiesta-de-la-oficialida/
END:VEVENT
END:VCALENDAR