BEGIN:VCALENDAR
VERSION:2.0
PRODID:-//eventon.com NONSGML v1.0//EN
CALSCALE:GREGORIAN
METHOD:PUBLISH
BEGIN:VEVENT
UID:69e81027a4982
DTSTAMP:20260422T000247Z
DTSTART:20240927
DTEND:20240928
LOCATION:
SUMMARY:Fiesta de Los Guías (Cabrales)
DESCRIPTION:Fiesta de Los Guías (Cabrales)\nhttps://el21asturias.es/events
 /fiesta-de-los-guias-cabrales/
URL:https://el21asturias.es/events/fiesta-de-los-guias-cabrales/
END:VEVENT
END:VCALENDAR