BEGIN:VCALENDAR
VERSION:2.0
PRODID:-//eventon.com NONSGML v1.0//EN
CALSCALE:GREGORIAN
METHOD:PUBLISH
BEGIN:VEVENT
UID:69ebfa229f387
DTSTAMP:20260424T231754Z
DTSTART:20241012
DTEND:20241013
LOCATION:
SUMMARY:Rogaine Tierra de Asturcones (Piloña)
DESCRIPTION:Rogaine Tierra de Asturcones (Piloña)\nhttps://el21asturias.es
 /events/rogaine-tierra-de-asturcones-pilona/
URL:https://el21asturias.es/events/rogaine-tierra-de-asturcones-pilona/
END:VEVENT
END:VCALENDAR