BEGIN:VCALENDAR
VERSION:2.0
PRODID:-//eventon.com NONSGML v1.0//EN
CALSCALE:GREGORIAN
METHOD:PUBLISH
BEGIN:VEVENT
UID:69ea20992ec9f
DTSTAMP:20260423T133729Z
DTSTART:20241011
DTEND:20241012
LOCATION:
SUMMARY:Feria y fiestas de Santa Teresa (Piloña)
DESCRIPTION:Feria y fiestas de Santa Teresa (Piloña)\nhttps://el21asturias
 .es/events/feria-y-fiestas-de-santa-teresa-pilona/
URL:https://el21asturias.es/events/feria-y-fiestas-de-santa-teresa-pilona/
END:VEVENT
END:VCALENDAR