BEGIN:VCALENDAR
VERSION:2.0
PRODID:-//eventon.com NONSGML v1.0//EN
CALSCALE:GREGORIAN
METHOD:PUBLISH
BEGIN:VEVENT
UID:69e7612b7ce64
DTSTAMP:20260421T113611Z
DTSTART:20241109
DTEND:20241110
LOCATION:
SUMMARY:Festival del Esfoyón y Amagosto de Navelgas
DESCRIPTION:Festival del Esfoyón y Amagosto de Navelgas\nhttps://el21astur
 ias.es/events/festival-del-esfoyon-y-amagosto-de-navelgas/
URL:https://el21asturias.es/events/festival-del-esfoyon-y-amagosto-de-navelgas/
END:VEVENT
END:VCALENDAR